BEGIN:VCALENDAR
VERSION:2.0
PRODID:-//eventon.com NONSGML v1.0//EN
CALSCALE:GREGORIAN
METHOD:PUBLISH
BEGIN:VEVENT
UID:69e8fc5ecf58f
DTSTAMP:20260422T165038Z
DTSTART:20250719T090000Z
DTEND:20250719T155800Z
LOCATION:Lanud Sutan Sjahrir\,  Padang
SUMMARY:UNITY FEST 2025 IS COMING!
DESCRIPTION:UNITY FEST 2025 IS COMING!Bersiaplah\,  Padang! Gelora musik da
 n energi bakal meledak di Lanud Sutan Sjahrir! 19 Juli 2025Lanud Sutan Sjah
 rir\,  PadangTiket tersedia di: tiket.com Saksikan penampilan spesial dari:
 The ChangcutersHIVI!The JansenJason Ranti Bawa teman\,  nyalakan semangat\,
   dan rasakan dentuman festival musik paling pecah tahun ini!UNITY FEST 202
 5 — Kualitas Berani[..]\nhttps://eventdisumbar.com/events/unity-fest-2025
 -is-coming/
URL:https://eventdisumbar.com/events/unity-fest-2025-is-coming/
END:VEVENT
END:VCALENDAR